BEGIN:VCALENDAR
VERSION:2.0
PRODID:-//FCSI - ECPv6.15.17.1//NONSGML v1.0//EN
CALSCALE:GREGORIAN
METHOD:PUBLISH
X-WR-CALNAME:FCSI
X-ORIGINAL-URL:https://fcsi.nl
X-WR-CALDESC:Evenementen voor FCSI
REFRESH-INTERVAL;VALUE=DURATION:PT1H
X-Robots-Tag:noindex
X-PUBLISHED-TTL:PT1H
BEGIN:VTIMEZONE
TZID:Europe/Amsterdam
BEGIN:DAYLIGHT
TZOFFSETFROM:+0100
TZOFFSETTO:+0200
TZNAME:CEST
DTSTART:20240331T010000
END:DAYLIGHT
BEGIN:STANDARD
TZOFFSETFROM:+0200
TZOFFSETTO:+0100
TZNAME:CET
DTSTART:20241027T010000
END:STANDARD
BEGIN:DAYLIGHT
TZOFFSETFROM:+0100
TZOFFSETTO:+0200
TZNAME:CEST
DTSTART:20250330T010000
END:DAYLIGHT
BEGIN:STANDARD
TZOFFSETFROM:+0200
TZOFFSETTO:+0100
TZNAME:CET
DTSTART:20251026T010000
END:STANDARD
BEGIN:DAYLIGHT
TZOFFSETFROM:+0100
TZOFFSETTO:+0200
TZNAME:CEST
DTSTART:20260329T010000
END:DAYLIGHT
BEGIN:STANDARD
TZOFFSETFROM:+0200
TZOFFSETTO:+0100
TZNAME:CET
DTSTART:20261025T010000
END:STANDARD
END:VTIMEZONE
BEGIN:VEVENT
DTSTART;TZID=Europe/Amsterdam:20251218T153000
DTEND;TZID=Europe/Amsterdam:20251218T220000
DTSTAMP:20260421T023228
CREATED:20250221T132422Z
LAST-MODIFIED:20251103T141515Z
UID:1869-1766071800-1766095200@fcsi.nl
SUMMARY:FCSI NL Kenniscafé bij Metos\, Birnieweg 2 te Deventer
DESCRIPTION:Het jaar met elkaar afsluiten. Proosten op alles wat het jaar ons gebracht heeft.\nEn dat doen we met elkaar dit jaar bij Metos te Deventer!\nWij starten met een inspirerende workshop en sluiten nadien aan voor een 3-gangendiner! \nWe Inspire – We Share – We Support
URL:https://fcsi.nl/event/jaarlijks-eindejaarsdiner/
LOCATION:Metos\, Birnieweg 2\, Deventer\, 7418 HH\, Netherlands
ATTACH;FMTTYPE=image/png:https://fcsi.nl/wp-content/uploads/2025/02/Schermafbeelding-2025-02-21-142256.png
END:VEVENT
END:VCALENDAR