BEGIN:VCALENDAR
VERSION:2.0
PRODID:-//FCSI - ECPv6.15.17.1//NONSGML v1.0//EN
CALSCALE:GREGORIAN
METHOD:PUBLISH
X-ORIGINAL-URL:https://fcsi.nl
X-WR-CALDESC:Evenementen voor FCSI
REFRESH-INTERVAL;VALUE=DURATION:PT1H
X-Robots-Tag:noindex
X-PUBLISHED-TTL:PT1H
BEGIN:VTIMEZONE
TZID:Europe/Amsterdam
BEGIN:DAYLIGHT
TZOFFSETFROM:+0100
TZOFFSETTO:+0200
TZNAME:CEST
DTSTART:20240331T010000
END:DAYLIGHT
BEGIN:STANDARD
TZOFFSETFROM:+0200
TZOFFSETTO:+0100
TZNAME:CET
DTSTART:20241027T010000
END:STANDARD
BEGIN:DAYLIGHT
TZOFFSETFROM:+0100
TZOFFSETTO:+0200
TZNAME:CEST
DTSTART:20250330T010000
END:DAYLIGHT
BEGIN:STANDARD
TZOFFSETFROM:+0200
TZOFFSETTO:+0100
TZNAME:CET
DTSTART:20251026T010000
END:STANDARD
BEGIN:DAYLIGHT
TZOFFSETFROM:+0100
TZOFFSETTO:+0200
TZNAME:CEST
DTSTART:20260329T010000
END:DAYLIGHT
BEGIN:STANDARD
TZOFFSETFROM:+0200
TZOFFSETTO:+0100
TZNAME:CET
DTSTART:20261025T010000
END:STANDARD
END:VTIMEZONE
BEGIN:VEVENT
DTSTART;TZID=Europe/Amsterdam:20250627T080000
DTEND;TZID=Europe/Amsterdam:20250628T153000
DTSTAMP:20260421T115158
CREATED:20250214T153310Z
LAST-MODIFIED:20250221T132543Z
UID:1854-1751011200-1751124600@fcsi.nl
SUMMARY:FCSI NL InspireTour Antwerpen 27 en 28 juni
DESCRIPTION:Antwerpen is een stad die je zal verrassen met haar veelzijdigheid en charme. Of je nu een kunstliefhebber\, geschiedenisliefhebber of gewoon een fan van bruisende steden bent\, Antwerpen biedt een schat aan bezienswaardigheden en ervaringen die je niet mag missen. \nSamen met Rob Bongers van Horeca Development gaan we een inspirerende tour opzetten waarbij de nieuwe hotspots zullen worden bezocht\, opvallende trends maar ook authentieke plekken. En natuurlijk de vele hotspots waar Antwerpen bekend om is.
URL:https://fcsi.nl/event/inspiretour-antwerpen-27-en-28-juni/
ATTACH;FMTTYPE=image/png:https://fcsi.nl/wp-content/uploads/2025/02/Schermafbeelding-2025-02-14-163221.png
END:VEVENT
END:VCALENDAR