BEGIN:VCALENDAR
VERSION:2.0
PRODID:-//FCSI - ECPv6.15.20//NONSGML v1.0//EN
CALSCALE:GREGORIAN
METHOD:PUBLISH
X-WR-CALNAME:FCSI
X-ORIGINAL-URL:https://fcsi.nl
X-WR-CALDESC:Evenementen voor FCSI
REFRESH-INTERVAL;VALUE=DURATION:PT1H
X-Robots-Tag:noindex
X-PUBLISHED-TTL:PT1H
BEGIN:VTIMEZONE
TZID:Europe/Amsterdam
BEGIN:DAYLIGHT
TZOFFSETFROM:+0100
TZOFFSETTO:+0200
TZNAME:CEST
DTSTART:20240331T010000
END:DAYLIGHT
BEGIN:STANDARD
TZOFFSETFROM:+0200
TZOFFSETTO:+0100
TZNAME:CET
DTSTART:20241027T010000
END:STANDARD
BEGIN:DAYLIGHT
TZOFFSETFROM:+0100
TZOFFSETTO:+0200
TZNAME:CEST
DTSTART:20250330T010000
END:DAYLIGHT
BEGIN:STANDARD
TZOFFSETFROM:+0200
TZOFFSETTO:+0100
TZNAME:CET
DTSTART:20251026T010000
END:STANDARD
BEGIN:DAYLIGHT
TZOFFSETFROM:+0100
TZOFFSETTO:+0200
TZNAME:CEST
DTSTART:20260329T010000
END:DAYLIGHT
BEGIN:STANDARD
TZOFFSETFROM:+0200
TZOFFSETTO:+0100
TZNAME:CET
DTSTART:20261025T010000
END:STANDARD
END:VTIMEZONE
BEGIN:VEVENT
DTSTART;TZID=Europe/Amsterdam:20250321T090000
DTEND;TZID=Europe/Amsterdam:20250321T100000
DTSTAMP:20260421T155057
CREATED:20250320T110808Z
LAST-MODIFIED:20250320T110808Z
UID:1938-1742547600-1742551200@fcsi.nl
SUMMARY:FCSI EAME Friday Talk: "Intuitive technologies in in-person services (beginning with Food Service)" |  21 March 2025
DESCRIPTION:We are excited to invite you to our next FCSI EAME Friday Talk on March 21 at 09:00 CET via Zoom. This session will explore: \nIntuitive technologies in in-person services (beginning with Food Service) \nThe evolution of in-person services is not about smart tech\, but intuitive solutions driven by human-centric design driven to elevate the human experience across the value chain. Under the vise of automation\, AI and robotics are coming and the industry needs a re-thinking of what a business model of the future looks like while unlocking experiences that was not possible before. \nMeet our speaker: Haitham Al-Beik \nHaitham Al-Beik is a pioneering entrepreneur focused on reimagining service industries through AI-driven\, autonomous solutions. As CEO and founder of Wings\, he develops next-generation robotics and infrastructure to make businesses more efficient and sustainable. At Expo City Dubai\, he spearheads human-centric innovations that blend technology with creativity to shape the cities and services of the future. \nDon’t miss this thought-provoking discussion on the role of technology in redefining human interactions in service industries. \n📅 Date: March 21\, 2025\n🕘 Time: 09:00 CET\n📍 Where: Zoom (link provided upon registration) \n🔗 Register now to secure your spot and be part of this engaging conversation: Click here to register \n 
URL:https://fcsi.nl/event/fcsi-eame-friday-talk-intuitive-technologies-in-in-person-services-beginning-with-food-service-21-march-2025/
ATTACH;FMTTYPE=image/png:https://fcsi.nl/wp-content/uploads/2025/03/Schermafbeelding-2025-03-20-120724.png
END:VEVENT
BEGIN:VEVENT
DTSTART;TZID=Europe/Amsterdam:20250327T153000
DTEND;TZID=Europe/Amsterdam:20250327T190000
DTSTAMP:20260421T155057
CREATED:20250214T145258Z
LAST-MODIFIED:20250221T132627Z
UID:1849-1743089400-1743102000@fcsi.nl
SUMMARY:FCSI NL ALV/Kenniscafé NordCap Nederland te Waddinxveen
DESCRIPTION:
URL:https://fcsi.nl/event/algemene-ledenvergadering/
ATTACH;FMTTYPE=image/png:https://fcsi.nl/wp-content/uploads/2025/02/Schermafbeelding-2025-02-07-162645.png
END:VEVENT
END:VCALENDAR