BEGIN:VCALENDAR
VERSION:2.0
PRODID:-//FCSI - ECPv6.15.17.1//NONSGML v1.0//EN
CALSCALE:GREGORIAN
METHOD:PUBLISH
X-WR-CALNAME:FCSI
X-ORIGINAL-URL:https://fcsi.nl
X-WR-CALDESC:Evenementen voor FCSI
REFRESH-INTERVAL;VALUE=DURATION:PT1H
X-Robots-Tag:noindex
X-PUBLISHED-TTL:PT1H
BEGIN:VTIMEZONE
TZID:Europe/Amsterdam
BEGIN:DAYLIGHT
TZOFFSETFROM:+0100
TZOFFSETTO:+0200
TZNAME:CEST
DTSTART:20240331T010000
END:DAYLIGHT
BEGIN:STANDARD
TZOFFSETFROM:+0200
TZOFFSETTO:+0100
TZNAME:CET
DTSTART:20241027T010000
END:STANDARD
BEGIN:DAYLIGHT
TZOFFSETFROM:+0100
TZOFFSETTO:+0200
TZNAME:CEST
DTSTART:20250330T010000
END:DAYLIGHT
BEGIN:STANDARD
TZOFFSETFROM:+0200
TZOFFSETTO:+0100
TZNAME:CET
DTSTART:20251026T010000
END:STANDARD
BEGIN:DAYLIGHT
TZOFFSETFROM:+0100
TZOFFSETTO:+0200
TZNAME:CEST
DTSTART:20260329T010000
END:DAYLIGHT
BEGIN:STANDARD
TZOFFSETFROM:+0200
TZOFFSETTO:+0100
TZNAME:CET
DTSTART:20261025T010000
END:STANDARD
END:VTIMEZONE
BEGIN:VEVENT
DTSTART;TZID=Europe/Amsterdam:20250225T170000
DTEND;TZID=Europe/Amsterdam:20250225T180000
DTSTAMP:20260421T142931
CREATED:20250221T125459Z
LAST-MODIFIED:20250221T130158Z
UID:1862-1740502800-1740506400@fcsi.nl
SUMMARY:FCSI NL PowerHour
DESCRIPTION:Iedere professional mag haar eigen PowerHour claimen! Een uur helemaal voor jouzelf om anderen leden te inspireren\, om samen te delen en te om andere te supporten met jouw verhaal.\nWil jij hiervan gebruik maken? De 1e PowerHour is op dinsdag 25 februari om 17.00 uur tot 18.00 uur. \nDe volgende PowerHours staan gepland op: 29 april\, 24 juni en 30 september!
URL:https://fcsi.nl/event/fcsi-nl-powerhour/
ATTACH;FMTTYPE=image/png:https://fcsi.nl/wp-content/uploads/2025/02/Schermafbeelding-2025-02-21-140040.png
END:VEVENT
END:VCALENDAR