BEGIN:VCALENDAR
VERSION:2.0
PRODID:-//FCSI - ECPv6.15.17.1//NONSGML v1.0//EN
CALSCALE:GREGORIAN
METHOD:PUBLISH
X-WR-CALNAME:FCSI
X-ORIGINAL-URL:https://fcsi.nl
X-WR-CALDESC:Evenementen voor FCSI
REFRESH-INTERVAL;VALUE=DURATION:PT1H
X-Robots-Tag:noindex
X-PUBLISHED-TTL:PT1H
BEGIN:VTIMEZONE
TZID:Europe/Amsterdam
BEGIN:DAYLIGHT
TZOFFSETFROM:+0100
TZOFFSETTO:+0200
TZNAME:CEST
DTSTART:20240331T010000
END:DAYLIGHT
BEGIN:STANDARD
TZOFFSETFROM:+0200
TZOFFSETTO:+0100
TZNAME:CET
DTSTART:20241027T010000
END:STANDARD
BEGIN:DAYLIGHT
TZOFFSETFROM:+0100
TZOFFSETTO:+0200
TZNAME:CEST
DTSTART:20250330T010000
END:DAYLIGHT
BEGIN:STANDARD
TZOFFSETFROM:+0200
TZOFFSETTO:+0100
TZNAME:CET
DTSTART:20251026T010000
END:STANDARD
BEGIN:DAYLIGHT
TZOFFSETFROM:+0100
TZOFFSETTO:+0200
TZNAME:CEST
DTSTART:20260329T010000
END:DAYLIGHT
BEGIN:STANDARD
TZOFFSETFROM:+0200
TZOFFSETTO:+0100
TZNAME:CET
DTSTART:20261025T010000
END:STANDARD
END:VTIMEZONE
BEGIN:VEVENT
DTSTART;TZID=Europe/Amsterdam:20250114T133000
DTEND;TZID=Europe/Amsterdam:20250114T153000
DTSTAMP:20260421T130158
CREATED:20241219T172147Z
LAST-MODIFIED:20241219T172348Z
UID:1827-1736861400-1736868600@fcsi.nl
SUMMARY:Horecava 2025
DESCRIPTION:Programmalijn: \n\nVrouwenpanel; Glazen plafond in de facility & hospitality wereld. Moderator Zsuzsan Proos\nPaneldiscussie over de realisatie van een (groot)keuken met producent\, consultant en ondernemer. Moderator Ronald Lekkerkerker\nStudent Challenge; presentatie van een gerichte food en hospitality opdracht door HBO studenten\n\nSponsored by NordCap en Winterhalter!
URL:https://fcsi.nl/event/horecava-2025/
ATTACH;FMTTYPE=image/jpeg:https://fcsi.nl/wp-content/uploads/2024/01/FCSI-Nederland-Horecava-26-scaled.jpg
END:VEVENT
END:VCALENDAR