BEGIN:VCALENDAR
VERSION:2.0
PRODID:-//FCSI - ECPv6.15.20//NONSGML v1.0//EN
CALSCALE:GREGORIAN
METHOD:PUBLISH
X-WR-CALNAME:FCSI
X-ORIGINAL-URL:https://fcsi.nl
X-WR-CALDESC:Evenementen voor FCSI
REFRESH-INTERVAL;VALUE=DURATION:PT1H
X-Robots-Tag:noindex
X-PUBLISHED-TTL:PT1H
BEGIN:VTIMEZONE
TZID:Europe/Amsterdam
BEGIN:DAYLIGHT
TZOFFSETFROM:+0100
TZOFFSETTO:+0200
TZNAME:CEST
DTSTART:20230326T010000
END:DAYLIGHT
BEGIN:STANDARD
TZOFFSETFROM:+0200
TZOFFSETTO:+0100
TZNAME:CET
DTSTART:20231029T010000
END:STANDARD
BEGIN:DAYLIGHT
TZOFFSETFROM:+0100
TZOFFSETTO:+0200
TZNAME:CEST
DTSTART:20240331T010000
END:DAYLIGHT
BEGIN:STANDARD
TZOFFSETFROM:+0200
TZOFFSETTO:+0100
TZNAME:CET
DTSTART:20241027T010000
END:STANDARD
BEGIN:DAYLIGHT
TZOFFSETFROM:+0100
TZOFFSETTO:+0200
TZNAME:CEST
DTSTART:20250330T010000
END:DAYLIGHT
BEGIN:STANDARD
TZOFFSETFROM:+0200
TZOFFSETTO:+0100
TZNAME:CET
DTSTART:20251026T010000
END:STANDARD
END:VTIMEZONE
BEGIN:VEVENT
DTSTART;TZID=Europe/Amsterdam:20240307T160000
DTEND;TZID=Europe/Amsterdam:20240307T200000
DTSTAMP:20260424T133224
CREATED:20240122T084609Z
LAST-MODIFIED:20240122T084609Z
UID:1720-1709827200-1709841600@fcsi.nl
SUMMARY:Kenniscafé Klop Pro
DESCRIPTION:Een kijkje in de keuken bij een van onze Corporates Klop Pro met als merken Alto-Shaam\, Pratica en Moduline.\nWij zijn te gast bij Ron Klop \nSlimme oplossingen voor de professionele keuken – KlopPro B.V. \n 
URL:https://fcsi.nl/event/kenniscafe-klop-pro/
ATTACH;FMTTYPE=image/jpeg:https://fcsi.nl/wp-content/uploads/2024/01/Knipsel-2.jpg
END:VEVENT
END:VCALENDAR