BEGIN:VCALENDAR
VERSION:2.0
PRODID:-//FCSI - ECPv6.15.20//NONSGML v1.0//EN
CALSCALE:GREGORIAN
METHOD:PUBLISH
X-ORIGINAL-URL:https://fcsi.nl
X-WR-CALDESC:Evenementen voor FCSI
REFRESH-INTERVAL;VALUE=DURATION:PT1H
X-Robots-Tag:noindex
X-PUBLISHED-TTL:PT1H
BEGIN:VTIMEZONE
TZID:Europe/Amsterdam
BEGIN:DAYLIGHT
TZOFFSETFROM:+0100
TZOFFSETTO:+0200
TZNAME:CEST
DTSTART:20230326T010000
END:DAYLIGHT
BEGIN:STANDARD
TZOFFSETFROM:+0200
TZOFFSETTO:+0100
TZNAME:CET
DTSTART:20231029T010000
END:STANDARD
BEGIN:DAYLIGHT
TZOFFSETFROM:+0100
TZOFFSETTO:+0200
TZNAME:CEST
DTSTART:20240331T010000
END:DAYLIGHT
BEGIN:STANDARD
TZOFFSETFROM:+0200
TZOFFSETTO:+0100
TZNAME:CET
DTSTART:20241027T010000
END:STANDARD
BEGIN:DAYLIGHT
TZOFFSETFROM:+0100
TZOFFSETTO:+0200
TZNAME:CEST
DTSTART:20250330T010000
END:DAYLIGHT
BEGIN:STANDARD
TZOFFSETFROM:+0200
TZOFFSETTO:+0100
TZNAME:CET
DTSTART:20251026T010000
END:STANDARD
END:VTIMEZONE
BEGIN:VEVENT
DTSTART;TZID=Europe/Amsterdam:20240109T130000
DTEND;TZID=Europe/Amsterdam:20240109T170000
DTSTAMP:20260424T161956
CREATED:20230901T124507Z
LAST-MODIFIED:20240108T145434Z
UID:1456-1704805200-1704819600@fcsi.nl
SUMMARY:Horecava 2024 / FCSI Netwerk bijeenkomst
DESCRIPTION:Sven Sallaerts\, van Younique Concepts \nSven Sallaerts (34) – Co-founder Younique Concepts – Position: Future Growth.\nStudied Hospitality Management and Leadership in Maastricht\, Barcelona and Berkely.\nSuccesfully developed ten hospitality concepts which are (partially) owned by him and the entire team of Younique Concepts. Four new outlets are in the pipeline\, majority of the focus goes to the international expansion of the brand Pesca – which now holds two locations in the Netherlands (Rotterdam and Amsterdam) and will expand to Nice and Hamburg in 2024. Younique Concepts is phrased in the Netherlands for their revolutionary HR-model\, innovative guest experiences and bold marketing approach. They recently opened Selva\, Sonora and ‘Hasta la Vista\, baby’ in Amsterdam! \nEn Maarten Schellekens.\nMaarten heeft een passie voor het binden\, boeien en behouden van medewerkers. Hij gelooft dat moderne bedrijven op een andere manier naar het personeelsbeleid moeten kijken. Vanuit een achtergrond bij een van de grootste cateraars van Nederland is hij in 2019 gestart met zijn bedrijf WELDER. Daar worden zo’n 500 bedrijven begeleid met een modern personeelsbeleid.Niet vanuit onderbuikgevoel\, maar onderbouwd met data\, gefaciliteerd met één digitale applicatie en gebaseerd op wetenschappelijke inzichten. Inmiddels is WELDER het snelst groeiende HR-bedrijf van Nederland en actief in 12 landen.
URL:https://fcsi.nl/event/horecava-2024-fcsi-netwerk-bijeenkomst/
ATTACH;FMTTYPE=image/jpeg:https://fcsi.nl/wp-content/uploads/2023/09/Sven-Sallaerts-scaled.jpg
END:VEVENT
BEGIN:VEVENT
DTSTART;TZID=Europe/Amsterdam:20240130T170000
DTEND;TZID=Europe/Amsterdam:20240130T180000
DTSTAMP:20260424T161956
CREATED:20240122T085002Z
LAST-MODIFIED:20240122T085002Z
UID:1723-1706634000-1706637600@fcsi.nl
SUMMARY:PowerHour met onze Professionals
DESCRIPTION:Ieder laatste dinsdag van de maand een uurtje samen met onze Professionals.\nAltijd weer een bijzonder thema\, wat speelt er in de markt.
URL:https://fcsi.nl/event/powerhour-met-onze-professionals/
ATTACH;FMTTYPE=image/jpeg:https://fcsi.nl/wp-content/uploads/2024/01/Knipsel-3.jpg
END:VEVENT
END:VCALENDAR