BEGIN:VCALENDAR
VERSION:2.0
PRODID:-//FCSI - ECPv6.15.20//NONSGML v1.0//EN
CALSCALE:GREGORIAN
METHOD:PUBLISH
X-ORIGINAL-URL:https://fcsi.nl
X-WR-CALDESC:Evenementen voor FCSI
REFRESH-INTERVAL;VALUE=DURATION:PT1H
X-Robots-Tag:noindex
X-PUBLISHED-TTL:PT1H
BEGIN:VTIMEZONE
TZID:Europe/Amsterdam
BEGIN:DAYLIGHT
TZOFFSETFROM:+0100
TZOFFSETTO:+0200
TZNAME:CEST
DTSTART:20250330T010000
END:DAYLIGHT
BEGIN:STANDARD
TZOFFSETFROM:+0200
TZOFFSETTO:+0100
TZNAME:CET
DTSTART:20251026T010000
END:STANDARD
BEGIN:DAYLIGHT
TZOFFSETFROM:+0100
TZOFFSETTO:+0200
TZNAME:CEST
DTSTART:20260329T010000
END:DAYLIGHT
BEGIN:STANDARD
TZOFFSETFROM:+0200
TZOFFSETTO:+0100
TZNAME:CET
DTSTART:20261025T010000
END:STANDARD
BEGIN:DAYLIGHT
TZOFFSETFROM:+0100
TZOFFSETTO:+0200
TZNAME:CEST
DTSTART:20270328T010000
END:DAYLIGHT
BEGIN:STANDARD
TZOFFSETFROM:+0200
TZOFFSETTO:+0100
TZNAME:CET
DTSTART:20271031T010000
END:STANDARD
END:VTIMEZONE
BEGIN:VEVENT
DTSTART;VALUE=DATE:20260528
DTEND;VALUE=DATE:20260531
DTSTAMP:20260424T022721
CREATED:20250221T133155Z
LAST-MODIFIED:20260421T134737Z
UID:1882-1779926400-1780185599@fcsi.nl
SUMMARY:FCSI EAME Congres Liverpool 2026
DESCRIPTION:The Conference #HEART26 logo represents the key themes and challenges shaping our industry\, with each letter highlighting one of the essential pillars that define the Conference. H stands for Heart and Humanity symbolising the passion and human connection within FCSI\, and the importance of designing for people through human-centred\, ergonomic foodservice design. E represents the Environment\, emphasising our shared responsibility to build a sustainable future for the next generations. A stands for AI & Automation\, reflecting the rapid technological developments that are transforming the foodservice world. R signifies Responsibility\, capturing our commitment to learning\, mentoring\, and supporting the future workforce. Finally\, T represents Togetherness\, highlighting the power of collaboration across regions\, disciplines\, and cultures within FCSI. \nThe overall theme for 2026 is to strengthen the HEART of the industry by creating balance between people\, planet and performance. The focus is on sustainability\, environmental responsibility and long-term value creation. The vision is a shift towards a more conscious and regenerative industry model\, moving away from carbon-intensive practices and towards sustainable agriculture\, innovation and future-ready solutions that support a healthy\, resilient industry. \n 
URL:https://fcsi.nl/event/fcsi-eame-congres-liverpool-2026/
ATTACH;FMTTYPE=image/jpeg:https://fcsi.nl/wp-content/uploads/2025/02/Schermafbeelding-2026-04-21-153819.jpg
END:VEVENT
BEGIN:VEVENT
DTSTART;TZID=Europe/Amsterdam:20260701T170000
DTEND;TZID=Europe/Amsterdam:20260701T210000
DTSTAMP:20260424T022721
CREATED:20260421T135257Z
LAST-MODIFIED:20260421T135257Z
UID:2234-1782925200-1782939600@fcsi.nl
SUMMARY:ZomerBBQ
DESCRIPTION:Informeel en gezellig; dat is het idee van deze ZomerBBQ. \nLocatie; Levens Middleby te Gilze
URL:https://fcsi.nl/event/zomerbbq/
ATTACH;FMTTYPE=image/jpeg:https://fcsi.nl/wp-content/uploads/2026/04/Schermafbeelding-2026-04-21-155118.jpg
END:VEVENT
BEGIN:VEVENT
DTSTART;TZID=Europe/Amsterdam:20261029T130000
DTEND;TZID=Europe/Amsterdam:20261029T190000
DTSTAMP:20260424T022721
CREATED:20260113T162637Z
LAST-MODIFIED:20260113T162637Z
UID:2162-1793278800-1793300400@fcsi.nl
SUMMARY:FCSI Hospitality Hub
DESCRIPTION:Groots event ergens op locatie in Nederland. Scaping the Future!
URL:https://fcsi.nl/event/fcsi-hospitality-hub/
ATTACH;FMTTYPE=image/png:https://fcsi.nl/wp-content/uploads/2025/02/Schermafbeelding-2025-02-21-140302.png
END:VEVENT
BEGIN:VEVENT
DTSTART;TZID=Europe/Amsterdam:20261210T153000
DTEND;TZID=Europe/Amsterdam:20261210T220000
DTSTAMP:20260424T022721
CREATED:20260113T162808Z
LAST-MODIFIED:20260421T135405Z
UID:2164-1796916600-1796940000@fcsi.nl
SUMMARY:FCSI Kenniscafé + eindejaarsdiner
DESCRIPTION:
URL:https://fcsi.nl/event/fcsi-kenniscafe-eindejaarsdiner/
ATTACH;FMTTYPE=image/png:https://fcsi.nl/wp-content/uploads/2025/02/Schermafbeelding-2025-02-21-142256.png
END:VEVENT
END:VCALENDAR