BEGIN:VCALENDAR
VERSION:2.0
PRODID:-//FCSI - ECPv6.15.20//NONSGML v1.0//EN
CALSCALE:GREGORIAN
METHOD:PUBLISH
X-WR-CALNAME:FCSI
X-ORIGINAL-URL:https://fcsi.nl
X-WR-CALDESC:Evenementen voor FCSI
REFRESH-INTERVAL;VALUE=DURATION:PT1H
X-Robots-Tag:noindex
X-PUBLISHED-TTL:PT1H
BEGIN:VTIMEZONE
TZID:Europe/Amsterdam
BEGIN:DAYLIGHT
TZOFFSETFROM:+0100
TZOFFSETTO:+0200
TZNAME:CEST
DTSTART:20210328T010000
END:DAYLIGHT
BEGIN:STANDARD
TZOFFSETFROM:+0200
TZOFFSETTO:+0100
TZNAME:CET
DTSTART:20211031T010000
END:STANDARD
BEGIN:DAYLIGHT
TZOFFSETFROM:+0100
TZOFFSETTO:+0200
TZNAME:CEST
DTSTART:20220327T010000
END:DAYLIGHT
BEGIN:STANDARD
TZOFFSETFROM:+0200
TZOFFSETTO:+0100
TZNAME:CET
DTSTART:20221030T010000
END:STANDARD
BEGIN:DAYLIGHT
TZOFFSETFROM:+0100
TZOFFSETTO:+0200
TZNAME:CEST
DTSTART:20230326T010000
END:DAYLIGHT
BEGIN:STANDARD
TZOFFSETFROM:+0200
TZOFFSETTO:+0100
TZNAME:CET
DTSTART:20231029T010000
END:STANDARD
BEGIN:DAYLIGHT
TZOFFSETFROM:+0100
TZOFFSETTO:+0200
TZNAME:CEST
DTSTART:20240331T010000
END:DAYLIGHT
BEGIN:STANDARD
TZOFFSETFROM:+0200
TZOFFSETTO:+0100
TZNAME:CET
DTSTART:20241027T010000
END:STANDARD
END:VTIMEZONE
BEGIN:VEVENT
DTSTART;TZID=Europe/Amsterdam:20230922T080000
DTEND;TZID=Europe/Amsterdam:20230923T150000
DTSTAMP:20260421T173349
CREATED:20230901T123421Z
LAST-MODIFIED:20230901T123421Z
UID:1448-1695369600-1695481200@fcsi.nl
SUMMARY:Inspiratie Tour Keulen 22/23 september
DESCRIPTION:
URL:https://fcsi.nl/event/inspiratie-tour-keulen-22-23-september/
ATTACH;FMTTYPE=image/jpeg:https://fcsi.nl/wp-content/uploads/2023/09/keulen.jpg
END:VEVENT
BEGIN:VEVENT
DTSTART;TZID=Europe/Amsterdam:20230420T133000
DTEND;TZID=Europe/Amsterdam:20230420T183000
DTSTAMP:20260421T173349
CREATED:20230203T134351Z
LAST-MODIFIED:20230203T134613Z
UID:1094-1681997400-1682015400@fcsi.nl
SUMMARY:Hospitality Hub Scaping the Future
DESCRIPTION:
URL:https://fcsi.nl/event/hospitality-hub-20-april-scaping-the-future/
ATTACH;FMTTYPE=image/jpeg:https://fcsi.nl/wp-content/uploads/2023/02/Aankondiging-HH-20-april-2023.jpg
END:VEVENT
BEGIN:VEVENT
DTSTART;TZID=Europe/Amsterdam:20221117T153000
DTEND;TZID=Europe/Amsterdam:20221117T173000
DTSTAMP:20260421T173349
CREATED:20220503T140749Z
LAST-MODIFIED:20220503T140749Z
UID:622-1668699000-1668706200@fcsi.nl
SUMMARY:FCSI NL Kenniscafé / Pitch leden
DESCRIPTION:Programma en locatie volgen nog
URL:https://fcsi.nl/event/fcsi-nl-kenniscafe-pitch-leden/
END:VEVENT
BEGIN:VEVENT
DTSTART;TZID=Europe/Amsterdam:20220922T080000
DTEND;TZID=Europe/Amsterdam:20220923T200000
DTSTAMP:20260421T173349
CREATED:20220503T135049Z
LAST-MODIFIED:20220919T125722Z
UID:620-1663833600-1663963200@fcsi.nl
SUMMARY:FCSI NL Inspiratietoer Eindhoven
DESCRIPTION:Het programma is bekend! Een tweedaagse waarbij Eindhoven als gastvrouw zal optreden! \nWil jij hier bij zijn? Bekijk hier het programma : Inspiratietoer FCSI 22_23 september 2022.EN
URL:https://fcsi.nl/event/fcsi-nl-inspiratietoer-eindhoven/
ATTACH;FMTTYPE=image/jpeg:https://fcsi.nl/wp-content/uploads/2022/05/Evoluon-Eindhoven-scaled.jpg
END:VEVENT
BEGIN:VEVENT
DTSTART;TZID=Europe/Amsterdam:20220609T113000
DTEND;TZID=Europe/Amsterdam:20220609T143000
DTSTAMP:20260421T173349
CREATED:20220503T134659Z
LAST-MODIFIED:20220509T082504Z
UID:617-1654774200-1654785000@fcsi.nl
SUMMARY:FCSI NL Kenniscafé
DESCRIPTION:
URL:https://fcsi.nl/event/fcsi-nl-kenniscafe/
ATTACH;FMTTYPE=image/png:https://fcsi.nl/wp-content/uploads/2022/05/Frijado.png
END:VEVENT
BEGIN:VEVENT
DTSTART;TZID=Europe/Amsterdam:20220512T190000
DTEND;TZID=Europe/Amsterdam:20220514T233000
DTSTAMP:20260421T173349
CREATED:20220503T133507Z
LAST-MODIFIED:20220509T082153Z
UID:613-1652382000-1652571000@fcsi.nl
SUMMARY:FCSI EAME #TACT22 Together\, Action\, Change\, Transformation
DESCRIPTION:Programma voor alle dagen: https://fcsi.eu/conference-program/ \n 
URL:https://fcsi.nl/event/fcsi-eame/
LOCATION:Hyatt Regency Chantily\, Chantily\, Parijs\, Frankrijk
ATTACH;FMTTYPE=image/png:https://fcsi.nl/wp-content/uploads/2021/10/Conference-TACT22-logo-square-big.png
END:VEVENT
END:VCALENDAR