BEGIN:VCALENDAR
VERSION:2.0
PRODID:-//FCSI - ECPv6.15.17.1//NONSGML v1.0//EN
CALSCALE:GREGORIAN
METHOD:PUBLISH
X-ORIGINAL-URL:https://fcsi.nl
X-WR-CALDESC:Evenementen voor FCSI
REFRESH-INTERVAL;VALUE=DURATION:PT1H
X-Robots-Tag:noindex
X-PUBLISHED-TTL:PT1H
BEGIN:VTIMEZONE
TZID:Europe/Amsterdam
BEGIN:DAYLIGHT
TZOFFSETFROM:+0100
TZOFFSETTO:+0200
TZNAME:CEST
DTSTART:20240331T010000
END:DAYLIGHT
BEGIN:STANDARD
TZOFFSETFROM:+0200
TZOFFSETTO:+0100
TZNAME:CET
DTSTART:20241027T010000
END:STANDARD
BEGIN:DAYLIGHT
TZOFFSETFROM:+0100
TZOFFSETTO:+0200
TZNAME:CEST
DTSTART:20250330T010000
END:DAYLIGHT
BEGIN:STANDARD
TZOFFSETFROM:+0200
TZOFFSETTO:+0100
TZNAME:CET
DTSTART:20251026T010000
END:STANDARD
BEGIN:DAYLIGHT
TZOFFSETFROM:+0100
TZOFFSETTO:+0200
TZNAME:CEST
DTSTART:20260329T010000
END:DAYLIGHT
BEGIN:STANDARD
TZOFFSETFROM:+0200
TZOFFSETTO:+0100
TZNAME:CET
DTSTART:20261025T010000
END:STANDARD
BEGIN:DAYLIGHT
TZOFFSETFROM:+0100
TZOFFSETTO:+0200
TZNAME:CEST
DTSTART:20270328T010000
END:DAYLIGHT
BEGIN:STANDARD
TZOFFSETFROM:+0200
TZOFFSETTO:+0100
TZNAME:CET
DTSTART:20271031T010000
END:STANDARD
END:VTIMEZONE
BEGIN:VEVENT
DTSTART;TZID=Europe/Amsterdam:20251218T153000
DTEND;TZID=Europe/Amsterdam:20251218T220000
DTSTAMP:20260421T040721
CREATED:20250221T132422Z
LAST-MODIFIED:20251103T141515Z
UID:1869-1766071800-1766095200@fcsi.nl
SUMMARY:FCSI NL Kenniscafé bij Metos\, Birnieweg 2 te Deventer
DESCRIPTION:Het jaar met elkaar afsluiten. Proosten op alles wat het jaar ons gebracht heeft.\nEn dat doen we met elkaar dit jaar bij Metos te Deventer!\nWij starten met een inspirerende workshop en sluiten nadien aan voor een 3-gangendiner! \nWe Inspire – We Share – We Support
URL:https://fcsi.nl/event/jaarlijks-eindejaarsdiner/
LOCATION:Metos\, Birnieweg 2\, Deventer\, 7418 HH\, Netherlands
ATTACH;FMTTYPE=image/png:https://fcsi.nl/wp-content/uploads/2025/02/Schermafbeelding-2025-02-21-142256.png
END:VEVENT
BEGIN:VEVENT
DTSTART;TZID=Europe/Amsterdam:20260224T170000
DTEND;TZID=Europe/Amsterdam:20260224T180000
DTSTAMP:20260421T040721
CREATED:20260113T161947Z
LAST-MODIFIED:20260113T162022Z
UID:2151-1771952400-1771956000@fcsi.nl
SUMMARY:FCSI PowerHour
DESCRIPTION:Voor professionals members; elkaar inspireren\, delen van interessante zaken en elkaar supporten daar waar kan!
URL:https://fcsi.nl/event/powerhour-2/
ATTACH;FMTTYPE=image/png:https://fcsi.nl/wp-content/uploads/2025/02/Schermafbeelding-2025-02-21-140040.png
END:VEVENT
BEGIN:VEVENT
DTSTART;TZID=Europe/Amsterdam:20260319T153000
DTEND;TZID=Europe/Amsterdam:20260319T190000
DTSTAMP:20260421T040721
CREATED:20260113T162442Z
LAST-MODIFIED:20260113T162442Z
UID:2160-1773934200-1773946800@fcsi.nl
SUMMARY:FCSI Kenniscafé + ALV
DESCRIPTION:Op locatie bij een Corporate member; rondleiding en presentatie
URL:https://fcsi.nl/event/fcsi-kenniscafe-alv/
ATTACH;FMTTYPE=image/png:https://fcsi.nl/wp-content/uploads/2025/02/Schermafbeelding-2025-02-07-162645.png
END:VEVENT
BEGIN:VEVENT
DTSTART;VALUE=DATE:20260501
DTEND;VALUE=DATE:20260502
DTSTAMP:20260421T040721
CREATED:20250221T133155Z
LAST-MODIFIED:20250221T133244Z
UID:1882-1777593600-1777679999@fcsi.nl
SUMMARY:FCSI EAME Congres Liverpool 2026
DESCRIPTION:
URL:https://fcsi.nl/event/fcsi-eame-congres-liverpool-2026/
ATTACH;FMTTYPE=image/png:https://fcsi.nl/wp-content/uploads/2025/02/Schermafbeelding-2025-02-21-143100.png
END:VEVENT
BEGIN:VEVENT
DTSTART;TZID=Europe/Amsterdam:20260526T170000
DTEND;TZID=Europe/Amsterdam:20260526T180000
DTSTAMP:20260421T040721
CREATED:20260113T162109Z
LAST-MODIFIED:20260113T162109Z
UID:2154-1779814800-1779818400@fcsi.nl
SUMMARY:FCSI PowerHour
DESCRIPTION:Voor professionals members; elkaar inspireren\, delen van interessante zaken en elkaar supporten daar waar kan!
URL:https://fcsi.nl/event/fcsi-powerhour/
ATTACH;FMTTYPE=image/jpeg:https://fcsi.nl/wp-content/uploads/2024/01/Knipsel-3.jpg
END:VEVENT
BEGIN:VEVENT
DTSTART;TZID=Europe/Amsterdam:20260929T170000
DTEND;TZID=Europe/Amsterdam:20260929T180000
DTSTAMP:20260421T040721
CREATED:20260113T162205Z
LAST-MODIFIED:20260113T162205Z
UID:2156-1790701200-1790704800@fcsi.nl
SUMMARY:FCSI PowerHour
DESCRIPTION:Voor professionals members; elkaar inspireren\, delen van interessante zaken en elkaar supporten daar waar kan!
URL:https://fcsi.nl/event/fcsi-powerhour-2/
ATTACH;FMTTYPE=image/png:https://fcsi.nl/wp-content/uploads/2025/02/Schermafbeelding-2025-02-21-140040.png
END:VEVENT
BEGIN:VEVENT
DTSTART;TZID=Europe/Amsterdam:20261029T130000
DTEND;TZID=Europe/Amsterdam:20261029T190000
DTSTAMP:20260421T040721
CREATED:20260113T162637Z
LAST-MODIFIED:20260113T162637Z
UID:2162-1793278800-1793300400@fcsi.nl
SUMMARY:FCSI Hospitality Hub
DESCRIPTION:Groots event ergens op locatie in Nederland. Scaping the Future!
URL:https://fcsi.nl/event/fcsi-hospitality-hub/
ATTACH;FMTTYPE=image/png:https://fcsi.nl/wp-content/uploads/2025/02/Schermafbeelding-2025-02-21-140302.png
END:VEVENT
BEGIN:VEVENT
DTSTART;TZID=Europe/Amsterdam:20261124T170000
DTEND;TZID=Europe/Amsterdam:20261124T180000
DTSTAMP:20260421T040721
CREATED:20260113T162254Z
LAST-MODIFIED:20260113T162254Z
UID:2158-1795539600-1795543200@fcsi.nl
SUMMARY:FCSI PowerHour
DESCRIPTION:Voor professionals members; elkaar inspireren\, delen van interessante zaken en elkaar supporten daar waar kan!
URL:https://fcsi.nl/event/fcsi-powerhour-3/
ATTACH;FMTTYPE=image/png:https://fcsi.nl/wp-content/uploads/2025/02/Schermafbeelding-2025-02-21-140040.png
END:VEVENT
BEGIN:VEVENT
DTSTART;TZID=Europe/Amsterdam:20261217T153000
DTEND;TZID=Europe/Amsterdam:20261217T220000
DTSTAMP:20260421T040721
CREATED:20260113T162808Z
LAST-MODIFIED:20260113T162808Z
UID:2164-1797521400-1797544800@fcsi.nl
SUMMARY:FCSI Kenniscafé + eindejaarsdiner
DESCRIPTION:
URL:https://fcsi.nl/event/fcsi-kenniscafe-eindejaarsdiner/
ATTACH;FMTTYPE=image/png:https://fcsi.nl/wp-content/uploads/2025/02/Schermafbeelding-2025-02-21-142256.png
END:VEVENT
END:VCALENDAR